BEGIN:VCALENDAR
VERSION:2.0
PRODID:-//Houston County - ECPv6.15.20//NONSGML v1.0//EN
CALSCALE:GREGORIAN
METHOD:PUBLISH
X-ORIGINAL-URL:https://www.co.houston.mn.us
X-WR-CALDESC:Events for Houston County
REFRESH-INTERVAL;VALUE=DURATION:PT1H
X-Robots-Tag:noindex
X-PUBLISHED-TTL:PT1H
BEGIN:VTIMEZONE
TZID:America/Chicago
BEGIN:DAYLIGHT
TZOFFSETFROM:-0600
TZOFFSETTO:-0500
TZNAME:CDT
DTSTART:20190310T080000
END:DAYLIGHT
BEGIN:STANDARD
TZOFFSETFROM:-0500
TZOFFSETTO:-0600
TZNAME:CST
DTSTART:20191103T070000
END:STANDARD
BEGIN:DAYLIGHT
TZOFFSETFROM:-0600
TZOFFSETTO:-0500
TZNAME:CDT
DTSTART:20200308T080000
END:DAYLIGHT
BEGIN:STANDARD
TZOFFSETFROM:-0500
TZOFFSETTO:-0600
TZNAME:CST
DTSTART:20201101T070000
END:STANDARD
BEGIN:DAYLIGHT
TZOFFSETFROM:-0600
TZOFFSETTO:-0500
TZNAME:CDT
DTSTART:20210314T080000
END:DAYLIGHT
BEGIN:STANDARD
TZOFFSETFROM:-0500
TZOFFSETTO:-0600
TZNAME:CST
DTSTART:20211107T070000
END:STANDARD
END:VTIMEZONE
BEGIN:VEVENT
DTSTART;TZID=America/Chicago:20200331T100000
DTEND;TZID=America/Chicago:20200331T120000
DTSTAMP:20260424T024059
CREATED:20200330T200324Z
LAST-MODIFIED:20200406T222359Z
UID:3960-1585648800-1585656000@www.co.houston.mn.us
SUMMARY:Board Workgroup Session 3-31-20
DESCRIPTION:**Update – The work group session will be held via conference call.  Public may dial in to 507-725-5991 to listen.  Listeners are asked to mute their phones unless specifically addressed and given the opportunity to speak.  As this is a work group session\, public comment is not on the agenda\, but may but may be allowed at the Board Chair’s discretion.  At least one participant (County Administrator) will be present in the meeting location (Room 219). *** \nThe County Board regularly conducts Workgroup sessions to receive information from staff or outside agencies regarding current or upcoming issues or projects in advance of requests to take formal action\, if needed. The County Board does not take formal action during workgroup meetings. \nThe County Board will normally hold workgroup sessions at 09:00 in Rm. 219 of the Historic Courthouse Building\, Caledonia\, MN\, but may move to other locations and times\, as appropriate. If changed\, the Administrator will announce the changed time and location during the preceding full board meeting and reflect the change in the published agenda for said meeting. These meetings are not video recorded\, but agenda and minutes will be available via the county website. \n	\n		\n							Name\n									Download\n									File Type\n					\n		\n			\n			\n							Name\n									Download\n									File Type\n					\n			\n		\n		\n			\n				 Board of Commissioners\n			\n		\n			\n				\n					   BOC Agendas\n				\n			\n			\n				\n					   BOC Minutes\n				\n			\n			\n				\n					   BOC Packet\n				\n			\n			\n				\n					   BOC General Documents\n				\n			\n			\n				\n					   BOC Schedule
URL:https://www.co.houston.mn.us/calendar/board-workgroup-session-3-31-20/
LOCATION:Virtual: 507-725-5991\, Conference Call\, Dial 507-725-5991
END:VEVENT
END:VCALENDAR