BEGIN:VCALENDAR
VERSION:2.0
PRODID:-//Houston County - ECPv6.15.20//NONSGML v1.0//EN
CALSCALE:GREGORIAN
METHOD:PUBLISH
X-ORIGINAL-URL:https://www.co.houston.mn.us
X-WR-CALDESC:Events for Houston County
REFRESH-INTERVAL;VALUE=DURATION:PT1H
X-Robots-Tag:noindex
X-PUBLISHED-TTL:PT1H
BEGIN:VTIMEZONE
TZID:America/Chicago
BEGIN:DAYLIGHT
TZOFFSETFROM:-0600
TZOFFSETTO:-0500
TZNAME:CDT
DTSTART:20180311T080000
END:DAYLIGHT
BEGIN:STANDARD
TZOFFSETFROM:-0500
TZOFFSETTO:-0600
TZNAME:CST
DTSTART:20181104T070000
END:STANDARD
BEGIN:DAYLIGHT
TZOFFSETFROM:-0600
TZOFFSETTO:-0500
TZNAME:CDT
DTSTART:20190310T080000
END:DAYLIGHT
BEGIN:STANDARD
TZOFFSETFROM:-0500
TZOFFSETTO:-0600
TZNAME:CST
DTSTART:20191103T070000
END:STANDARD
BEGIN:DAYLIGHT
TZOFFSETFROM:-0600
TZOFFSETTO:-0500
TZNAME:CDT
DTSTART:20200308T080000
END:DAYLIGHT
BEGIN:STANDARD
TZOFFSETFROM:-0500
TZOFFSETTO:-0600
TZNAME:CST
DTSTART:20201101T070000
END:STANDARD
END:VTIMEZONE
BEGIN:VEVENT
DTSTART;TZID=America/Chicago:20191202T170000
DTEND;TZID=America/Chicago:20191202T190000
DTSTAMP:20260424T044702
CREATED:20191102T122719Z
LAST-MODIFIED:20200129T142251Z
UID:2398-1575306000-1575313200@www.co.houston.mn.us
SUMMARY:Truth in Taxation Meeting
DESCRIPTION:Annual Truth in Taxation Meeting will be held on December 2\, 2019 at 5pm.
URL:https://www.co.houston.mn.us/calendar/truth-in-taxation-meeting/
LOCATION:Public Notices\, 304 S. Marshall Street\, Caledonia\, MN\, 55921\, United States
END:VEVENT
BEGIN:VEVENT
DTSTART;TZID=America/Chicago:20191201T080000
DTEND;TZID=America/Chicago:20191201T170000
DTSTAMP:20260424T044702
CREATED:20191009T175530Z
LAST-MODIFIED:20200207T180317Z
UID:2701-1575187200-1575219600@www.co.houston.mn.us
SUMMARY:Your Feedback Is Needed!
DESCRIPTION:Houston County is updating the Comprehensive Land Use Plan and we need your feedback. Click to take the survey.
URL:https://www.co.houston.mn.us/calendar/your-feedback-is-needed/
LOCATION:Public Notices\, 304 S. Marshall Street\, Caledonia\, MN\, 55921\, United States
END:VEVENT
BEGIN:VEVENT
DTSTART;VALUE=DATE:20191125
DTEND;VALUE=DATE:20191126
DTSTAMP:20260424T044702
CREATED:20191025T180821Z
LAST-MODIFIED:20200129T142452Z
UID:2837-1574640000-1574726399@www.co.houston.mn.us
SUMMARY:22 Rural Acres For Sale by Sealed Bid Auction
DESCRIPTION:Approximately 22 acres m/l of agricultural real estate located along State Highway 76 within Caledonia City limits in Houston County\, Minnesota\, will be sold on bids. The property is PID #211152002 with the following legal description: A parcel of land located in the NW ¼ of the NW ¼ of Section 13\, T102N\, R6W\, Houston County\, Minnesota\, more particularly described as follows:  \nCommencing at the northwest corner of said section 13 also being in the centerline of state highway #76; thence long the north line of said section 13 and State Highway #76 on a bearing based on the Houston County Coordinate System of NAD 83 (1996 ADJ\,)\, of N 89°01’49” E and measures 248.79 feet to the point of beginning; thence continuing along said north line N 89°01’49” E and measures 1043.63 feet; thence along a line parallel to the east line of the aforementioned NW 1/4 of the NW 1/4\, S 0°03’12”W and measures 926.37 feet to the north line of the south 395.30 feet of the said NW 1/4 of the NW1/4; thence along said north line S 89°09’47” W and measures 1043.72 feet; thence along a line parallel to the west line of said NW 1/4 of the NW 1/4 N 0°03’41” E and measures 923.95 feet to the point of beginning. Said parcel contains 22.163 acres including State Highway #76 right of way and may be subject to easements of record or implied. Houston County retains all mineral rights to said property; and retains an easement for public transportation\, 50 feet South of the Section Line (close to TH 76 centerline)\, including and in addition to existing TH 76 right of way. The easement is further described as: Commencing at the Northwest Corner of said Section 13\, Thence North 89⁰ 01’ 49” East 248.79 feet along the north line of the Northwest Quarter of said Section to the Point of Beginning; Thence continuing North 89⁰ 01’ 49” East 1043.63 feet along said north line to the west line of the East 30 feet of the Northwest Quarter of the Northwest Quarter of said Section; Thence South 0⁰ 03’ 12” West 50.01 feet to a line parallel with and 50.00 feet southerly distant of the north line of said Quarter-Quarter Section; Thence South 89⁰ 01’ 49” West 1043.64 feet along said line to a line parallel with the west line of said Quarter-Quarter Section; Thence North 0⁰ 03’ 41” East 50.01 feet along said line to the Point of Beginning. Containing 1.198 acres\, subject to any other easements. \nSealed bids will be received at the office of the Auditor/Treasurer at the Houston County Historic Courthouse Building\, 304 S. Marshall St\, Caledonia\, MN 55921 until November 25\, 2019 at 9:00 am. Bids shall be made in writing\, enclosed in a sealed envelope and plainly marked “Houston County Property Sale” on the exterior. The bid shall contain the name\, address\, phone number\, email address\, parcel number and bid amount. Each original bid shall be accompanied by a cashier’s check payable to Houston County Treasurer for 5% of the bid as earnest money deposit. Properly received bids will be publicly opened and read at said time and place by representatives of Houston County and presented to the Board at the Regular Board Meeting scheduled for 9:30 am on November 26\, 2019. The Houston County Board of Commissioners reserve the right to accept or reject any and all bids and to negotiate with bidders\, and further reserves the right to conduct a bid-off between the top four (4) bidders. If the Board of Commissioners exercises their right to conduct a bid-off between the top four bidders\, the bid-off shall occur on December 2\, 2019 at 10:00 at the Commissioner’s Room in the Historic Courthouse. The Board of Commissioners reserve the right to conduct the bid-off according to the Board’s discretion\, including the right to conduct a confidential bid-off in person or by phone.\nThe successful bidder will be required to enter into a standard Minnesota Purchase Agreement\, with closing to occur no later than February 1\, 2020. Possession will be delivered upon the current leaser’s removal of the crop\, but in any event no later than April 1\, 2020. The Purchaser will pay the real estate taxes due and payable in 2020\, prorated to the date of closing. The premises are being sold “AS IS”. \nIf you have any questions regarding the property or bidding procedure\, please contact County Administrator Jeff Babinski at 507-725-5827.
URL:https://www.co.houston.mn.us/calendar/22-rural-acres-for-sale-by-sealed-bid-auction/
LOCATION:Public Notices\, 304 S. Marshall Street\, Caledonia\, MN\, 55921\, United States
END:VEVENT
END:VCALENDAR