BEGIN:VCALENDAR
VERSION:2.0
PRODID:-//Houston County - ECPv6.15.20//NONSGML v1.0//EN
CALSCALE:GREGORIAN
METHOD:PUBLISH
X-ORIGINAL-URL:https://www.co.houston.mn.us
X-WR-CALDESC:Events for Houston County
REFRESH-INTERVAL;VALUE=DURATION:PT1H
X-Robots-Tag:noindex
X-PUBLISHED-TTL:PT1H
BEGIN:VTIMEZONE
TZID:America/Chicago
BEGIN:DAYLIGHT
TZOFFSETFROM:-0600
TZOFFSETTO:-0500
TZNAME:CDT
DTSTART:20240310T080000
END:DAYLIGHT
BEGIN:STANDARD
TZOFFSETFROM:-0500
TZOFFSETTO:-0600
TZNAME:CST
DTSTART:20241103T070000
END:STANDARD
BEGIN:DAYLIGHT
TZOFFSETFROM:-0600
TZOFFSETTO:-0500
TZNAME:CDT
DTSTART:20250309T080000
END:DAYLIGHT
BEGIN:STANDARD
TZOFFSETFROM:-0500
TZOFFSETTO:-0600
TZNAME:CST
DTSTART:20251102T070000
END:STANDARD
BEGIN:DAYLIGHT
TZOFFSETFROM:-0600
TZOFFSETTO:-0500
TZNAME:CDT
DTSTART:20260308T080000
END:DAYLIGHT
BEGIN:STANDARD
TZOFFSETFROM:-0500
TZOFFSETTO:-0600
TZNAME:CST
DTSTART:20261101T070000
END:STANDARD
END:VTIMEZONE
BEGIN:VEVENT
DTSTART;TZID=America/Chicago:20251230T090000
DTEND;TZID=America/Chicago:20251230T120000
DTSTAMP:20260423T212419
CREATED:20250103T175659Z
LAST-MODIFIED:20250103T175659Z
UID:8858-1767085200-1767096000@www.co.houston.mn.us
SUMMARY:Board of Commissioners Meeting
DESCRIPTION:
URL:https://www.co.houston.mn.us/calendar/board-of-commissioners-meeting-91/
LOCATION:Historic Courthouse\, 304 S. Marshall Street\, Caledonia\, MN\, 55921\, United States
END:VEVENT
BEGIN:VEVENT
DTSTART;VALUE=DATE:20251224
DTEND;VALUE=DATE:20251226
DTSTAMP:20260423T212419
CREATED:20250103T175605Z
LAST-MODIFIED:20250103T175618Z
UID:8856-1766534400-1766707199@www.co.houston.mn.us
SUMMARY:Christmas Eve/Day (Employee Holiday)
DESCRIPTION:
URL:https://www.co.houston.mn.us/calendar/christmas-eve-day-employee-holiday-2/
LOCATION:Historic Courthouse\, 304 S. Marshall Street\, Caledonia\, MN\, 55921\, United States
END:VEVENT
BEGIN:VEVENT
DTSTART;TZID=America/Chicago:20251216T090000
DTEND;TZID=America/Chicago:20251216T120000
DTSTAMP:20260423T212419
CREATED:20250103T175257Z
LAST-MODIFIED:20250103T175257Z
UID:8852-1765875600-1765886400@www.co.houston.mn.us
SUMMARY:Board of Commissioners Meeting
DESCRIPTION:
URL:https://www.co.houston.mn.us/calendar/board-of-commissioners-meeting-89/
LOCATION:Historic Courthouse\, 304 S. Marshall Street\, Caledonia\, MN\, 55921\, United States
END:VEVENT
BEGIN:VEVENT
DTSTART;TZID=America/Chicago:20251202T090000
DTEND;TZID=America/Chicago:20251202T120000
DTSTAMP:20260423T212419
CREATED:20250103T175218Z
LAST-MODIFIED:20250103T175218Z
UID:8850-1764666000-1764676800@www.co.houston.mn.us
SUMMARY:Board of Commissioners Meeting
DESCRIPTION:
URL:https://www.co.houston.mn.us/calendar/board-of-commissioners-meeting-88/
LOCATION:Historic Courthouse\, 304 S. Marshall Street\, Caledonia\, MN\, 55921\, United States
END:VEVENT
BEGIN:VEVENT
DTSTART;VALUE=DATE:20251127
DTEND;VALUE=DATE:20251129
DTSTAMP:20260423T212419
CREATED:20250103T175141Z
LAST-MODIFIED:20250103T175141Z
UID:8848-1764201600-1764374399@www.co.houston.mn.us
SUMMARY:Thanksgiving (Employee Holiday)
DESCRIPTION:
URL:https://www.co.houston.mn.us/calendar/thanksgiving-employee-holiday-2/
LOCATION:Historic Courthouse\, 304 S. Marshall Street\, Caledonia\, MN\, 55921\, United States
END:VEVENT
BEGIN:VEVENT
DTSTART;TZID=America/Chicago:20251125T090000
DTEND;TZID=America/Chicago:20251125T120000
DTSTAMP:20260423T212419
CREATED:20250103T175055Z
LAST-MODIFIED:20250103T175055Z
UID:8846-1764061200-1764072000@www.co.houston.mn.us
SUMMARY:Board of Commissioners Meeting
DESCRIPTION:
URL:https://www.co.houston.mn.us/calendar/board-of-commissioners-meeting-87/
LOCATION:Historic Courthouse\, 304 S. Marshall Street\, Caledonia\, MN\, 55921\, United States
END:VEVENT
BEGIN:VEVENT
DTSTART;TZID=America/Chicago:20251118T090000
DTEND;TZID=America/Chicago:20251118T120000
DTSTAMP:20260423T212419
CREATED:20250103T175023Z
LAST-MODIFIED:20250103T175023Z
UID:8844-1763456400-1763467200@www.co.houston.mn.us
SUMMARY:Board of Commissioners Meeting
DESCRIPTION:
URL:https://www.co.houston.mn.us/calendar/board-of-commissioners-meeting-86/
LOCATION:Historic Courthouse\, 304 S. Marshall Street\, Caledonia\, MN\, 55921\, United States
END:VEVENT
BEGIN:VEVENT
DTSTART;VALUE=DATE:20251111
DTEND;VALUE=DATE:20251112
DTSTAMP:20260423T212419
CREATED:20250103T174927Z
LAST-MODIFIED:20250103T174927Z
UID:8842-1762819200-1762905599@www.co.houston.mn.us
SUMMARY:Veterans Day (Employee Holiday)
DESCRIPTION:
URL:https://www.co.houston.mn.us/calendar/veterans-day-employee-holiday-2/
LOCATION:Historic Courthouse\, 304 S. Marshall Street\, Caledonia\, MN\, 55921\, United States
END:VEVENT
BEGIN:VEVENT
DTSTART;TZID=America/Chicago:20251104T090000
DTEND;TZID=America/Chicago:20251104T120000
DTSTAMP:20260423T212419
CREATED:20250103T174843Z
LAST-MODIFIED:20250103T174843Z
UID:8840-1762246800-1762257600@www.co.houston.mn.us
SUMMARY:Board of Commissioners Meeting
DESCRIPTION:
URL:https://www.co.houston.mn.us/calendar/board-of-commissioners-meeting-85/
LOCATION:Historic Courthouse\, 304 S. Marshall Street\, Caledonia\, MN\, 55921\, United States
END:VEVENT
BEGIN:VEVENT
DTSTART;TZID=America/Chicago:20251028T090000
DTEND;TZID=America/Chicago:20251028T120000
DTSTAMP:20260423T212419
CREATED:20250103T174744Z
LAST-MODIFIED:20250103T174744Z
UID:8838-1761642000-1761652800@www.co.houston.mn.us
SUMMARY:Board of Commissioners Meeting
DESCRIPTION:
URL:https://www.co.houston.mn.us/calendar/board-of-commissioners-meeting-84/
LOCATION:Historic Courthouse\, 304 S. Marshall Street\, Caledonia\, MN\, 55921\, United States
END:VEVENT
BEGIN:VEVENT
DTSTART;TZID=America/Chicago:20251021T090000
DTEND;TZID=America/Chicago:20251021T120000
DTSTAMP:20260423T212419
CREATED:20250103T174713Z
LAST-MODIFIED:20250103T174713Z
UID:8836-1761037200-1761048000@www.co.houston.mn.us
SUMMARY:Board of Commissioners Meeting
DESCRIPTION:
URL:https://www.co.houston.mn.us/calendar/board-of-commissioners-meeting-83/
LOCATION:Historic Courthouse\, 304 S. Marshall Street\, Caledonia\, MN\, 55921\, United States
END:VEVENT
BEGIN:VEVENT
DTSTART;TZID=America/Chicago:20251014T090000
DTEND;TZID=America/Chicago:20251014T120000
DTSTAMP:20260423T212419
CREATED:20250103T174638Z
LAST-MODIFIED:20250103T174638Z
UID:8834-1760432400-1760443200@www.co.houston.mn.us
SUMMARY:Board of Commissioners Workgroup Session
DESCRIPTION:
URL:https://www.co.houston.mn.us/calendar/board-of-commissioners-workgroup-session-26/
LOCATION:Historic Courthouse\, 304 S. Marshall Street\, Caledonia\, MN\, 55921\, United States
END:VEVENT
BEGIN:VEVENT
DTSTART;TZID=America/Chicago:20251007T080000
DTEND;TZID=America/Chicago:20251007T170000
DTSTAMP:20260423T212419
CREATED:20250103T174558Z
LAST-MODIFIED:20250103T174558Z
UID:8832-1759824000-1759856400@www.co.houston.mn.us
SUMMARY:Board of Commissioners Meeting
DESCRIPTION:
URL:https://www.co.houston.mn.us/calendar/board-of-commissioners-meeting-82/
LOCATION:Historic Courthouse\, 304 S. Marshall Street\, Caledonia\, MN\, 55921\, United States
END:VEVENT
BEGIN:VEVENT
DTSTART;TZID=America/Chicago:20250923T090000
DTEND;TZID=America/Chicago:20250923T120000
DTSTAMP:20260423T212419
CREATED:20250103T174533Z
LAST-MODIFIED:20250103T174533Z
UID:8830-1758618000-1758628800@www.co.houston.mn.us
SUMMARY:Board of Commissioners Meeting
DESCRIPTION:
URL:https://www.co.houston.mn.us/calendar/board-of-commissioners-meeting-81/
LOCATION:Historic Courthouse\, 304 S. Marshall Street\, Caledonia\, MN\, 55921\, United States
END:VEVENT
BEGIN:VEVENT
DTSTART;TZID=America/Chicago:20250909T090000
DTEND;TZID=America/Chicago:20250909T120000
DTSTAMP:20260423T212419
CREATED:20250103T174326Z
LAST-MODIFIED:20250103T174326Z
UID:8828-1757408400-1757419200@www.co.houston.mn.us
SUMMARY:Board of Commissioners Workgroup Session
DESCRIPTION:
URL:https://www.co.houston.mn.us/calendar/board-of-commissioners-workgroup-session-25/
LOCATION:Historic Courthouse\, 304 S. Marshall Street\, Caledonia\, MN\, 55921\, United States
END:VEVENT
BEGIN:VEVENT
DTSTART;TZID=America/Chicago:20250902T090000
DTEND;TZID=America/Chicago:20250902T120000
DTSTAMP:20260423T212419
CREATED:20250103T174246Z
LAST-MODIFIED:20250103T174246Z
UID:8826-1756803600-1756814400@www.co.houston.mn.us
SUMMARY:Board of Commissioners Meeting
DESCRIPTION:
URL:https://www.co.houston.mn.us/calendar/board-of-commissioners-meeting-80/
LOCATION:Historic Courthouse\, 304 S. Marshall Street\, Caledonia\, MN\, 55921\, United States
END:VEVENT
BEGIN:VEVENT
DTSTART;TZID=America/Chicago:20250826T090000
DTEND;TZID=America/Chicago:20250826T120000
DTSTAMP:20260423T212419
CREATED:20250103T174147Z
LAST-MODIFIED:20250103T174147Z
UID:8822-1756198800-1756209600@www.co.houston.mn.us
SUMMARY:Board of Commissioners Meeting
DESCRIPTION:
URL:https://www.co.houston.mn.us/calendar/board-of-commissioners-meeting-79/
LOCATION:Historic Courthouse\, 304 S. Marshall Street\, Caledonia\, MN\, 55921\, United States
END:VEVENT
BEGIN:VEVENT
DTSTART;TZID=America/Chicago:20250812T090000
DTEND;TZID=America/Chicago:20250812T120000
DTSTAMP:20260423T212419
CREATED:20250103T173659Z
LAST-MODIFIED:20250103T173659Z
UID:8818-1754989200-1755000000@www.co.houston.mn.us
SUMMARY:Board of Commissioners Workgroup Session
DESCRIPTION:
URL:https://www.co.houston.mn.us/calendar/board-of-commissioners-workgroup-session-24/
LOCATION:Historic Courthouse\, 304 S. Marshall Street\, Caledonia\, MN\, 55921\, United States
END:VEVENT
BEGIN:VEVENT
DTSTART;TZID=America/Chicago:20250805T090000
DTEND;TZID=America/Chicago:20250805T120000
DTSTAMP:20260423T212419
CREATED:20250103T154242Z
LAST-MODIFIED:20250103T154242Z
UID:8816-1754384400-1754395200@www.co.houston.mn.us
SUMMARY:Board of Commissioners Meeting
DESCRIPTION:
URL:https://www.co.houston.mn.us/calendar/board-of-commissioners-meeting-77/
LOCATION:Historic Courthouse\, 304 S. Marshall Street\, Caledonia\, MN\, 55921\, United States
END:VEVENT
BEGIN:VEVENT
DTSTART;TZID=America/Chicago:20250722T090000
DTEND;TZID=America/Chicago:20250722T120000
DTSTAMP:20260423T212419
CREATED:20250103T154038Z
LAST-MODIFIED:20250103T154038Z
UID:8814-1753174800-1753185600@www.co.houston.mn.us
SUMMARY:Board of Commissioners Meeting
DESCRIPTION:
URL:https://www.co.houston.mn.us/calendar/board-of-commissioners-meeting-76/
LOCATION:Historic Courthouse\, 304 S. Marshall Street\, Caledonia\, MN\, 55921\, United States
END:VEVENT
BEGIN:VEVENT
DTSTART;TZID=America/Chicago:20250715T090000
DTEND;TZID=America/Chicago:20250715T120000
DTSTAMP:20260423T212419
CREATED:20250103T154007Z
LAST-MODIFIED:20250103T154007Z
UID:8812-1752570000-1752580800@www.co.houston.mn.us
SUMMARY:Board of Commissioners Meeting
DESCRIPTION:
URL:https://www.co.houston.mn.us/calendar/board-of-commissioners-meeting-75/
LOCATION:Historic Courthouse\, 304 S. Marshall Street\, Caledonia\, MN\, 55921\, United States
END:VEVENT
BEGIN:VEVENT
DTSTART;TZID=America/Chicago:20250708T090000
DTEND;TZID=America/Chicago:20250708T120000
DTSTAMP:20260423T212419
CREATED:20250103T153933Z
LAST-MODIFIED:20250103T153933Z
UID:8810-1751965200-1751976000@www.co.houston.mn.us
SUMMARY:Board of Commissioners Workgroup Session
DESCRIPTION:
URL:https://www.co.houston.mn.us/calendar/board-of-commissioners-workgroup-session-23/
LOCATION:Historic Courthouse\, 304 S. Marshall Street\, Caledonia\, MN\, 55921\, United States
END:VEVENT
BEGIN:VEVENT
DTSTART;VALUE=DATE:20250704
DTEND;VALUE=DATE:20250705
DTSTAMP:20260423T212419
CREATED:20250103T153901Z
LAST-MODIFIED:20250103T153901Z
UID:8808-1751587200-1751673599@www.co.houston.mn.us
SUMMARY:Independence Day (Employee Holiday)
DESCRIPTION:
URL:https://www.co.houston.mn.us/calendar/independence-day-employee-holiday-2/
LOCATION:Historic Courthouse\, 304 S. Marshall Street\, Caledonia\, MN\, 55921\, United States
END:VEVENT
BEGIN:VEVENT
DTSTART;TZID=America/Chicago:20250701T090000
DTEND;TZID=America/Chicago:20250701T120000
DTSTAMP:20260423T212419
CREATED:20250103T153823Z
LAST-MODIFIED:20250103T153823Z
UID:8806-1751360400-1751371200@www.co.houston.mn.us
SUMMARY:Board of Commissioners Meeting
DESCRIPTION:
URL:https://www.co.houston.mn.us/calendar/board-of-commissioners-meeting-74/
LOCATION:Historic Courthouse\, 304 S. Marshall Street\, Caledonia\, MN\, 55921\, United States
END:VEVENT
BEGIN:VEVENT
DTSTART;TZID=America/Chicago:20250624T090000
DTEND;TZID=America/Chicago:20250624T120000
DTSTAMP:20260423T212419
CREATED:20250103T153647Z
LAST-MODIFIED:20250103T153647Z
UID:8804-1750755600-1750766400@www.co.houston.mn.us
SUMMARY:Board of Commissioners Meeting
DESCRIPTION:
URL:https://www.co.houston.mn.us/calendar/board-of-commissioners-meeting-73/
LOCATION:Historic Courthouse\, 304 S. Marshall Street\, Caledonia\, MN\, 55921\, United States
END:VEVENT
BEGIN:VEVENT
DTSTART;VALUE=DATE:20250619
DTEND;VALUE=DATE:20250620
DTSTAMP:20260423T212419
CREATED:20250103T153618Z
LAST-MODIFIED:20250103T153618Z
UID:8802-1750291200-1750377599@www.co.houston.mn.us
SUMMARY:Juneteenth (Employee Holiday)
DESCRIPTION:
URL:https://www.co.houston.mn.us/calendar/juneteenth-employee-holiday-2/
LOCATION:Historic Courthouse\, 304 S. Marshall Street\, Caledonia\, MN\, 55921\, United States
END:VEVENT
BEGIN:VEVENT
DTSTART;TZID=America/Chicago:20250617T080000
DTEND;TZID=America/Chicago:20250617T170000
DTSTAMP:20260423T212419
CREATED:20250103T153538Z
LAST-MODIFIED:20250103T153538Z
UID:8800-1750147200-1750179600@www.co.houston.mn.us
SUMMARY:Board of Commissioners Meeting
DESCRIPTION:
URL:https://www.co.houston.mn.us/calendar/board-of-commissioners-meeting-72/
LOCATION:Historic Courthouse\, 304 S. Marshall Street\, Caledonia\, MN\, 55921\, United States
END:VEVENT
BEGIN:VEVENT
DTSTART;TZID=America/Chicago:20250610T090000
DTEND;TZID=America/Chicago:20250610T120000
DTSTAMP:20260423T212419
CREATED:20250103T153505Z
LAST-MODIFIED:20250103T153505Z
UID:8798-1749546000-1749556800@www.co.houston.mn.us
SUMMARY:Board of Commissioners Workgroup Session
DESCRIPTION:
URL:https://www.co.houston.mn.us/calendar/board-of-commissioners-workgroup-session-22/
LOCATION:Historic Courthouse\, 304 S. Marshall Street\, Caledonia\, MN\, 55921\, United States
END:VEVENT
BEGIN:VEVENT
DTSTART;TZID=America/Chicago:20250603T090000
DTEND;TZID=America/Chicago:20250603T120000
DTSTAMP:20260423T212419
CREATED:20250103T153430Z
LAST-MODIFIED:20250103T153430Z
UID:8796-1748941200-1748952000@www.co.houston.mn.us
SUMMARY:Board of Commissioners Meeting
DESCRIPTION:
URL:https://www.co.houston.mn.us/calendar/board-of-commissioners-meeting-71/
LOCATION:Historic Courthouse\, 304 S. Marshall Street\, Caledonia\, MN\, 55921\, United States
END:VEVENT
BEGIN:VEVENT
DTSTART;TZID=America/Chicago:20250527T090000
DTEND;TZID=America/Chicago:20250527T120000
DTSTAMP:20260423T212419
CREATED:20250103T153354Z
LAST-MODIFIED:20250103T153354Z
UID:8794-1748336400-1748347200@www.co.houston.mn.us
SUMMARY:Board of Commissioners Meeting
DESCRIPTION:
URL:https://www.co.houston.mn.us/calendar/board-of-commissioners-meeting-70/
LOCATION:Historic Courthouse\, 304 S. Marshall Street\, Caledonia\, MN\, 55921\, United States
END:VEVENT
END:VCALENDAR