BEGIN:VCALENDAR
VERSION:2.0
PRODID:-//Houston County - ECPv6.15.20//NONSGML v1.0//EN
CALSCALE:GREGORIAN
METHOD:PUBLISH
X-ORIGINAL-URL:https://www.co.houston.mn.us
X-WR-CALDESC:Events for Houston County
REFRESH-INTERVAL;VALUE=DURATION:PT1H
X-Robots-Tag:noindex
X-PUBLISHED-TTL:PT1H
BEGIN:VTIMEZONE
TZID:America/Chicago
BEGIN:DAYLIGHT
TZOFFSETFROM:-0600
TZOFFSETTO:-0500
TZNAME:CDT
DTSTART:20190310T080000
END:DAYLIGHT
BEGIN:STANDARD
TZOFFSETFROM:-0500
TZOFFSETTO:-0600
TZNAME:CST
DTSTART:20191103T070000
END:STANDARD
BEGIN:DAYLIGHT
TZOFFSETFROM:-0600
TZOFFSETTO:-0500
TZNAME:CDT
DTSTART:20200308T080000
END:DAYLIGHT
BEGIN:STANDARD
TZOFFSETFROM:-0500
TZOFFSETTO:-0600
TZNAME:CST
DTSTART:20201101T070000
END:STANDARD
BEGIN:DAYLIGHT
TZOFFSETFROM:-0600
TZOFFSETTO:-0500
TZNAME:CDT
DTSTART:20210314T080000
END:DAYLIGHT
BEGIN:STANDARD
TZOFFSETFROM:-0500
TZOFFSETTO:-0600
TZNAME:CST
DTSTART:20211107T070000
END:STANDARD
BEGIN:DAYLIGHT
TZOFFSETFROM:-0600
TZOFFSETTO:-0500
TZNAME:CDT
DTSTART:20220313T080000
END:DAYLIGHT
BEGIN:STANDARD
TZOFFSETFROM:-0500
TZOFFSETTO:-0600
TZNAME:CST
DTSTART:20221106T070000
END:STANDARD
END:VTIMEZONE
BEGIN:VEVENT
DTSTART;TZID=America/Chicago:20210126T093000
DTEND;TZID=America/Chicago:20210126T113000
DTSTAMP:20260424T005252
CREATED:20210107T181056Z
LAST-MODIFIED:20210108T170246Z
UID:4807-1611653400-1611660600@www.co.houston.mn.us
SUMMARY:BOC Meeting 1-26-2021
DESCRIPTION:*****The meeting will be accessible to public participants via our conference call line at 312-626-6799 and entering meeting ID: 996 0382 8167 and password 670111. Public attendees are requested to mute their line until addressed.**** Guests will be muted by default\, but given the opportunity to address the board during the regular public comment periods. \nFull Board Meetings will occur in the County Board Meeting Room\, 2nd floor\, Historic Courthouse Building\, Caledonia\, MN. Agenda\, board packets\, and minutes are stored in the Administrator’s office and shared on the Houston County website\, as are video recordings\, when available. \n	\n		\n							Name\n									Download\n									File Type\n					\n		\n			\n			\n							Name\n									Download\n									File Type\n					\n			\n		\n		\n			\n				 Board of Commissioners\n			\n		\n			\n				\n					   BOC Agendas\n				\n			\n			\n				\n					   BOC Minutes\n				\n			\n			\n				\n					   BOC Packet\n				\n			\n			\n				\n					   BOC General Documents\n				\n			\n			\n				\n					   BOC Schedule\n				\n			\nClick the playlist button to select which video you would like to watch \n \nHouston County Board Meetings for 2020
URL:https://www.co.houston.mn.us/calendar/boc-meeting-1-26-2021/
LOCATION:Historic Courthouse\, 304 S. Marshall Street\, Caledonia\, MN\, 55921\, United States
END:VEVENT
BEGIN:VEVENT
DTSTART;TZID=America/Chicago:20210119T090000
DTEND;TZID=America/Chicago:20210119T110000
DTSTAMP:20260424T005252
CREATED:20210107T174000Z
LAST-MODIFIED:20210108T165212Z
UID:4799-1611046800-1611054000@www.co.houston.mn.us
SUMMARY:BOC Workgroup Session 1-19-2021
DESCRIPTION:The County Board regularly conducts workgroup sessions to receive information from staff or outside agencies regarding current or upcoming issues or projects in advance of requests to take formal action\, if needed. The County Board does not take formal action during workgroup meetings. \nThe County Board will normally hold workgroup sessions at 09:00 in Rm. 219 of the Historic Courthouse Building\, Caledonia\, MN\, but may move to other locations and times\, as appropriate. If changed\, the Administrator will announce the changed time and location during the preceding full board meeting and reflect the change in the published agenda for said meeting. These meetings are not video recorded\, but agenda and minutes will be available via the county website. \n	\n		\n							Name\n									Download\n									File Type\n					\n		\n			\n			\n							Name\n									Download\n									File Type\n					\n			\n		\n		\n			\n				 Board of Commissioners\n			\n		\n			\n				\n					   BOC Agendas\n				\n			\n			\n				\n					   BOC Minutes\n				\n			\n			\n				\n					   BOC Packet\n				\n			\n			\n				\n					   BOC General Documents\n				\n			\n			\n				\n					   BOC Schedule\n				\n			\nClick the playlist button to select which video you would like to watch \n \nHouston County Board Meetings for 2020
URL:https://www.co.houston.mn.us/calendar/boc-meeting-1-19-2021/
LOCATION:Historic Courthouse\, 304 S. Marshall Street\, Caledonia\, MN\, 55921\, United States
END:VEVENT
BEGIN:VEVENT
DTSTART;TZID=America/Chicago:20210118T080000
DTEND;TZID=America/Chicago:20210118T170000
DTSTAMP:20260424T005252
CREATED:20210107T180843Z
LAST-MODIFIED:20210107T180843Z
UID:4805-1610956800-1610989200@www.co.houston.mn.us
SUMMARY:Closed For Martin Luther King Jr. Day
DESCRIPTION:
URL:https://www.co.houston.mn.us/calendar/closed-for-martin-luther-king-jr-day/
LOCATION:Historic Courthouse\, 304 S. Marshall Street\, Caledonia\, MN\, 55921\, United States
END:VEVENT
BEGIN:VEVENT
DTSTART;TZID=America/Chicago:20210112T090000
DTEND;TZID=America/Chicago:20210112T230000
DTSTAMP:20260424T005252
CREATED:20210107T173322Z
LAST-MODIFIED:20210108T165115Z
UID:4795-1610442000-1610492400@www.co.houston.mn.us
SUMMARY:BOC Workshop Session 1-12-2021
DESCRIPTION:The County Board regularly conducts workgroup sessions to receive information from staff or outside agencies regarding current or upcoming issues or projects in advance of requests to take formal action\, if needed. The County Board does not take formal action during workgroup meetings. \nThe County Board will normally hold workgroup sessions at 09:00 in Rm. 219 of the Historic Courthouse Building\, Caledonia\, MN\, but may move to other locations and times\, as appropriate. If changed\, the Administrator will announce the changed time and location during the preceding full board meeting and reflect the change in the published agenda for said meeting. These meetings are not video recorded\, but agenda and minutes will be available via the county website. \n	\n		\n							Name\n									Download\n									File Type\n					\n		\n			\n			\n							Name\n									Download\n									File Type\n					\n			\n		\n		\n			\n				 Board of Commissioners\n			\n		\n			\n				\n					   BOC Agendas\n				\n			\n			\n				\n					   BOC Minutes\n				\n			\n			\n				\n					   BOC Packet\n				\n			\n			\n				\n					   BOC General Documents\n				\n			\n			\n				\n					   BOC Schedule
URL:https://www.co.houston.mn.us/calendar/boc-workshop-session-1-12-2021/
LOCATION:Historic Courthouse\, 304 S. Marshall Street\, Caledonia\, MN\, 55921\, United States
END:VEVENT
BEGIN:VEVENT
DTSTART;TZID=America/Chicago:20210112T090000
DTEND;TZID=America/Chicago:20210112T110000
DTSTAMP:20260424T005252
CREATED:20210108T164908Z
LAST-MODIFIED:20210108T164908Z
UID:4814-1610442000-1610449200@www.co.houston.mn.us
SUMMARY:BOC Special Meeting 1-12-2021
DESCRIPTION:Notice is hereby given\, the Houston County Board of Commissioners has scheduled an additional Board Meeting and Workshop session for January 12\, 2021. \nDue to the ongoing COVID-19 pandemic and in accordance with Resolution 20-20 Emergency Declaration\, the Board will conduct this meeting remotely.  Public may attend by using the following connection (312-626-6799\, meeting ID: 98040449407\, pw: 398904). \nThe County Board regularly conducts Workgroup sessions to receive information from staff or outside agencies regarding current or upcoming issues or projects in advance of requests to take formal action\, if needed. The County Board does not take formal action during workgroup meetings. \nThe County Board will normally hold workgroup sessions at 09:00 in Rm. 219 of the Historic Courthouse Building\, Caledonia\, MN\, but may move to other locations and times\, as appropriate. If changed\, the Administrator will announce the changed time and location during the preceding full board meeting and reflect the change in the published agenda for said meeting. These meetings are not video recorded\, but agenda and minutes will be available via the county website.
URL:https://www.co.houston.mn.us/calendar/boc-special-meeting-1-12-2021/
LOCATION:Historic Courthouse\, 304 S. Marshall Street\, Caledonia\, MN\, 55921\, United States
END:VEVENT
BEGIN:VEVENT
DTSTART;VALUE=DATE:20201103
DTEND;VALUE=DATE:20201104
DTSTAMP:20260424T005252
CREATED:20200221T163613Z
LAST-MODIFIED:20200221T165531Z
UID:3736-1604361600-1604447999@www.co.houston.mn.us
SUMMARY:General Election
DESCRIPTION:Go to your designated polling location to vote.  If you have any questions please contact the Houston County Auditor’s Office 507.725.5803 \nFind your polling place here.
URL:https://www.co.houston.mn.us/calendar/state-general-election/
END:VEVENT
BEGIN:VEVENT
DTSTART;TZID=America/Chicago:20201028T100000
DTEND;TZID=America/Chicago:20201028T120000
DTSTAMP:20260424T005252
CREATED:20200221T170800Z
LAST-MODIFIED:20200221T172722Z
UID:3766-1603879200-1603886400@www.co.houston.mn.us
SUMMARY:Public Accuracy Testing (PAT) for General Election
DESCRIPTION:Public accuracy testing of the election equipment that will be used for the General Election on November 3rd\, will be tested in the Commissioners room 222 in Historic Courthouse. \nThe public is invited and encouraged to attend. \n 
URL:https://www.co.houston.mn.us/calendar/public-accuracy-testing-pat-for-general-election/
LOCATION:Historic Courthouse\, 304 S. Marshall Street\, Caledonia\, MN\, 55921\, United States
END:VEVENT
BEGIN:VEVENT
DTSTART;VALUE=DATE:20201015
DTEND;VALUE=DATE:20201017
DTSTAMP:20260424T005252
CREATED:20200221T164222Z
LAST-MODIFIED:20200221T164913Z
UID:3743-1602723600-1602809999@www.co.houston.mn.us
SUMMARY:2nd Half Residential and Commercial Taxes Due
DESCRIPTION:Please pay your real estate and commercial taxes at the Houston County Treasurer’s Office. \nOffice Hour 8:00 a.m. to 4:30 p.m.
URL:https://www.co.houston.mn.us/calendar/2nd-half-residential-and-commercial-taxes-due/
LOCATION:Historic Courthouse\, 304 S. Marshall Street\, Caledonia\, MN\, 55921\, United States
END:VEVENT
BEGIN:VEVENT
DTSTART;VALUE=DATE:20200831
DTEND;VALUE=DATE:20200902
DTSTAMP:20260424T005252
CREATED:20200221T164105Z
LAST-MODIFIED:20200221T164946Z
UID:3741-1598835600-1598921999@www.co.houston.mn.us
SUMMARY:1st Half Mobile Home Taxes Due
DESCRIPTION:Please pay your Mobile Home taxes at the Houston County Treasurer’s Office. \nOffice Hour 8:00 a.m. to 4:30 p.m.
URL:https://www.co.houston.mn.us/calendar/1st-half-mobile-home-taxes-due/
LOCATION:Historic Courthouse\, 304 S. Marshall Street\, Caledonia\, MN\, 55921\, United States
END:VEVENT
BEGIN:VEVENT
DTSTART;VALUE=DATE:20200811
DTEND;VALUE=DATE:20200813
DTSTAMP:20260424T005252
CREATED:20200221T163531Z
LAST-MODIFIED:20200221T165649Z
UID:3734-1597107600-1597193999@www.co.houston.mn.us
SUMMARY:State Primary Election
DESCRIPTION:Go to your designated polling location to vote.  If you have any questions please contact the Houston County Auditor’s Office 507.725.5803 \nFind your polling place here.
URL:https://www.co.houston.mn.us/calendar/state-primary-election/
END:VEVENT
BEGIN:VEVENT
DTSTART;TZID=America/Chicago:20200805T100000
DTEND;TZID=America/Chicago:20200805T120000
DTSTAMP:20260424T005252
CREATED:20200221T170650Z
LAST-MODIFIED:20200221T172820Z
UID:3764-1596621600-1596628800@www.co.houston.mn.us
SUMMARY:Public Accuracy Testing (PAT) for State Primary Election
DESCRIPTION:Public accuracy testing of the election equipment that will be used for the State Primary Election on August 11th\, will be tested in the Commissioners room 222 in Historic Courthouse. \nThe public is invited and encouraged to attend.
URL:https://www.co.houston.mn.us/calendar/public-accuracy-testing-pat-for-state-primary-election/
LOCATION:Historic Courthouse\, 304 S. Marshall Street\, Caledonia\, MN\, 55921\, United States
END:VEVENT
BEGIN:VEVENT
DTSTART;VALUE=DATE:20200515
DTEND;VALUE=DATE:20200517
DTSTAMP:20260424T005252
CREATED:20200221T163925Z
LAST-MODIFIED:20200221T165019Z
UID:3739-1589504400-1589590799@www.co.houston.mn.us
SUMMARY:1st Half Real Estate Taxes Due
DESCRIPTION:Please pay your real estate taxes at the Houston County Treasurer’s Office. \nOffice Hour 8:00 a.m. to 4:30 p.m.
URL:https://www.co.houston.mn.us/calendar/1st-half-real-estate-taxes-due/
LOCATION:Historic Courthouse\, 304 S. Marshall Street\, Caledonia\, MN\, 55921\, United States
END:VEVENT
BEGIN:VEVENT
DTSTART;TZID=America/Chicago:20200408T100000
DTEND;TZID=America/Chicago:20200408T120000
DTSTAMP:20260424T005252
CREATED:20200221T170532Z
LAST-MODIFIED:20200221T172950Z
UID:3762-1586340000-1586347200@www.co.houston.mn.us
SUMMARY:Public Accuracy Testing (PAT) for Commissioner District 5
DESCRIPTION:Public accuracy testing of the election equipment that will be used for the Commissioner District 5 Election on April 14th\, will be tested in the Commissioners room 222 in Historic Courthouse. \nThe public is invited and encouraged to attend.
URL:https://www.co.houston.mn.us/calendar/public-accuracy-testing-pat-for-district-5/
LOCATION:Historic Courthouse\, 304 S. Marshall Street\, Caledonia\, MN\, 55921\, United States
END:VEVENT
BEGIN:VEVENT
DTSTART;TZID=America/Chicago:20200226T090000
DTEND;TZID=America/Chicago:20200226T110000
DTSTAMP:20260424T005252
CREATED:20200221T170203Z
LAST-MODIFIED:20200221T173156Z
UID:3757-1582707600-1582714800@www.co.houston.mn.us
SUMMARY:Public Accuracy Testing (PAT) for Presidential Nomination Primary (PNP) Election
DESCRIPTION:Public accuracy testing of the election equipment that will be used for the PNP Election on March 3rd\, will be tested in the Commissioners room 222 in Historic Courthouse. \nThe public is invited and encouraged to attend.
URL:https://www.co.houston.mn.us/calendar/public-accuracy-testing-pat-for-pnp-election/
LOCATION:Historic Courthouse\, 304 S. Marshall Street\, Caledonia\, MN\, 55921\, United States
END:VEVENT
BEGIN:VEVENT
DTSTART;VALUE=DATE:20200211
DTEND;VALUE=DATE:20200212
DTSTAMP:20260424T005252
CREATED:20200109T165307Z
LAST-MODIFIED:20200221T165502Z
UID:3550-1581379200-1581465599@www.co.houston.mn.us
SUMMARY:District 5 Primary Election
DESCRIPTION:Go to your designated polling location to vote.  If you have any questions please contact the Houston County Auditor’s Office 507.725.5803 \nFind your polling place here.
URL:https://www.co.houston.mn.us/calendar/district-5-primary/
END:VEVENT
END:VCALENDAR