BEGIN:VCALENDAR
VERSION:2.0
PRODID:-//Houston County - ECPv6.15.20//NONSGML v1.0//EN
CALSCALE:GREGORIAN
METHOD:PUBLISH
X-ORIGINAL-URL:https://www.co.houston.mn.us
X-WR-CALDESC:Events for Houston County
REFRESH-INTERVAL;VALUE=DURATION:PT1H
X-Robots-Tag:noindex
X-PUBLISHED-TTL:PT1H
BEGIN:VTIMEZONE
TZID:America/Chicago
BEGIN:DAYLIGHT
TZOFFSETFROM:-0600
TZOFFSETTO:-0500
TZNAME:CDT
DTSTART:20190310T080000
END:DAYLIGHT
BEGIN:STANDARD
TZOFFSETFROM:-0500
TZOFFSETTO:-0600
TZNAME:CST
DTSTART:20191103T070000
END:STANDARD
BEGIN:DAYLIGHT
TZOFFSETFROM:-0600
TZOFFSETTO:-0500
TZNAME:CDT
DTSTART:20200308T080000
END:DAYLIGHT
BEGIN:STANDARD
TZOFFSETFROM:-0500
TZOFFSETTO:-0600
TZNAME:CST
DTSTART:20201101T070000
END:STANDARD
BEGIN:DAYLIGHT
TZOFFSETFROM:-0600
TZOFFSETTO:-0500
TZNAME:CDT
DTSTART:20210314T080000
END:DAYLIGHT
BEGIN:STANDARD
TZOFFSETFROM:-0500
TZOFFSETTO:-0600
TZNAME:CST
DTSTART:20211107T070000
END:STANDARD
END:VTIMEZONE
BEGIN:VEVENT
DTSTART;TZID=America/Chicago:20200616T190000
DTEND;TZID=America/Chicago:20200616T210000
DTSTAMP:20260424T081440
CREATED:20200528T151431Z
LAST-MODIFIED:20200612T190622Z
UID:4156-1592334000-1592341200@www.co.houston.mn.us
SUMMARY:County Board of Appeal and Equalization
DESCRIPTION:The County Board of Appeal and Equalization meeting will be conducted both via teleconference/computer meeting and in-person with limited attendance available within social distancing limitations.  The in-person meeting location has been moved to the County Justice Center basement (Emergency Operations Center).   Seating will be limited and all attending are encouraged to maintain social distancing and wear protective face covering or masks. \nPublic participation is available by dialing 312-626-6799 and entering meeting ID: 98051934927 and password: 913575.  Participants may also request the zoom link for computer participation from the Assessor’s office. \nYou may appear before the Boards of Appeal and Equalization in person\, through a letter\, or through a representative authorized by you.  You must have presented your case to the Local Board of Appeal and Equalization BEFORE appealing to the County Board of Appeal and Equalization unless in an “open book” area of the County. \nIf the Local Board of Appeal and Equalization did not resolve your concerns\, you may bring your case to the County Board of Appeal and Equalization.  Please contact the County Assessor’s office (507-725-5801) to get on the agenda or for more information.
URL:https://www.co.houston.mn.us/calendar/county-board-of-appeal-and-equalization/
END:VEVENT
END:VCALENDAR