BEGIN:VCALENDAR
VERSION:2.0
PRODID:-//Houston County - ECPv6.15.20//NONSGML v1.0//EN
CALSCALE:GREGORIAN
METHOD:PUBLISH
X-WR-CALNAME:Houston County
X-ORIGINAL-URL:https://www.co.houston.mn.us
X-WR-CALDESC:Events for Houston County
REFRESH-INTERVAL;VALUE=DURATION:PT1H
X-Robots-Tag:noindex
X-PUBLISHED-TTL:PT1H
BEGIN:VTIMEZONE
TZID:America/Chicago
BEGIN:DAYLIGHT
TZOFFSETFROM:-0600
TZOFFSETTO:-0500
TZNAME:CDT
DTSTART:20190310T080000
END:DAYLIGHT
BEGIN:STANDARD
TZOFFSETFROM:-0500
TZOFFSETTO:-0600
TZNAME:CST
DTSTART:20191103T070000
END:STANDARD
BEGIN:DAYLIGHT
TZOFFSETFROM:-0600
TZOFFSETTO:-0500
TZNAME:CDT
DTSTART:20200308T080000
END:DAYLIGHT
BEGIN:STANDARD
TZOFFSETFROM:-0500
TZOFFSETTO:-0600
TZNAME:CST
DTSTART:20201101T070000
END:STANDARD
BEGIN:DAYLIGHT
TZOFFSETFROM:-0600
TZOFFSETTO:-0500
TZNAME:CDT
DTSTART:20210314T080000
END:DAYLIGHT
BEGIN:STANDARD
TZOFFSETFROM:-0500
TZOFFSETTO:-0600
TZNAME:CST
DTSTART:20211107T070000
END:STANDARD
END:VTIMEZONE
BEGIN:VEVENT
DTSTART;TZID=America/Chicago:20200616T100000
DTEND;TZID=America/Chicago:20200616T120000
DTSTAMP:20260424T063617
CREATED:20200529T132530Z
LAST-MODIFIED:20200529T132530Z
UID:4169-1592301600-1592308800@www.co.houston.mn.us
SUMMARY:BOC Workgroup Session 6-16-20
DESCRIPTION:*****The meeting will be accessible to public participants via our conference call line at 312-626-6799 and entering meeting ID:94502934669 and password 755536.  Public attendees are requested to mute their line until addressed.**** \nThe County Board regularly conducts Workgroup sessions to receive information from staff or outside agencies regarding current or upcoming issues or projects in advance of requests to take formal action\, if needed. The County Board does not take formal action during workgroup meetings. \nThe County Board will normally hold workgroup sessions at 09:00 in Rm. 219 of the Historic Courthouse Building\, Caledonia\, MN\, but may move to other locations and times\, as appropriate. If changed\, the Administrator will announce the changed time and location during the preceding full board meeting and reflect the change in the published agenda for said meeting. These meetings are not video recorded\, but agenda and minutes will be available via the county website. \n	\n		\n							Name\n									Download\n									File Type\n					\n		\n			\n			\n							Name\n									Download\n									File Type\n					\n			\n		\n		\n			\n				 Board of Commissioners\n			\n		\n			\n				\n					   BOC Agendas\n				\n			\n			\n				\n					   BOC Minutes\n				\n			\n			\n				\n					   BOC Packet\n				\n			\n			\n				\n					   BOC General Documents\n				\n			\n			\n				\n					   BOC Schedule
URL:https://www.co.houston.mn.us/calendar/boc-workgroup-session-6-16-20/
END:VEVENT
END:VCALENDAR