BEGIN:VCALENDAR
VERSION:2.0
PRODID:-//Houston County - ECPv6.15.20//NONSGML v1.0//EN
CALSCALE:GREGORIAN
METHOD:PUBLISH
X-ORIGINAL-URL:https://www.co.houston.mn.us
X-WR-CALDESC:Events for Houston County
REFRESH-INTERVAL;VALUE=DURATION:PT1H
X-Robots-Tag:noindex
X-PUBLISHED-TTL:PT1H
BEGIN:VTIMEZONE
TZID:America/Chicago
BEGIN:DAYLIGHT
TZOFFSETFROM:-0600
TZOFFSETTO:-0500
TZNAME:CDT
DTSTART:20190310T080000
END:DAYLIGHT
BEGIN:STANDARD
TZOFFSETFROM:-0500
TZOFFSETTO:-0600
TZNAME:CST
DTSTART:20191103T070000
END:STANDARD
BEGIN:DAYLIGHT
TZOFFSETFROM:-0600
TZOFFSETTO:-0500
TZNAME:CDT
DTSTART:20200308T080000
END:DAYLIGHT
BEGIN:STANDARD
TZOFFSETFROM:-0500
TZOFFSETTO:-0600
TZNAME:CST
DTSTART:20201101T070000
END:STANDARD
BEGIN:DAYLIGHT
TZOFFSETFROM:-0600
TZOFFSETTO:-0500
TZNAME:CDT
DTSTART:20210314T080000
END:DAYLIGHT
BEGIN:STANDARD
TZOFFSETFROM:-0500
TZOFFSETTO:-0600
TZNAME:CST
DTSTART:20211107T070000
END:STANDARD
END:VTIMEZONE
BEGIN:VEVENT
DTSTART;TZID=America/Chicago:20200609T103000
DTEND;TZID=America/Chicago:20200609T123000
DTSTAMP:20260424T043328
CREATED:20200529T132344Z
LAST-MODIFIED:20200529T132355Z
UID:4166-1591698600-1591705800@www.co.houston.mn.us
SUMMARY:BOC Meeting 6-9-20
DESCRIPTION:This meeting will occur electronically due to the continued COVID-19 Peacetime emergency declaration.  The public may participate by dialing 1-312-626-6799\, entering meeting ID 95697403315 and password 992222.  Guests will be muted by default\, but given the opportunity to address the board during the regular public comment periods. \nFull Board Meetings will occur in the County Board Meeting Room\, 2nd floor\, Historic Courthouse Building\, Caledonia\, MN. Agenda\, board packets\, and minutes are stored in the Administrator’s office and shared on the Houston County website\, as are video recordings\, when available. \n	\n		\n							Name\n									Download\n									File Type\n					\n		\n			\n			\n							Name\n									Download\n									File Type\n					\n			\n		\n		\n			\n				 Board of Commissioners\n			\n		\n			\n				\n					   BOC Agendas\n				\n			\n			\n				\n					   BOC Minutes\n				\n			\n			\n				\n					   BOC Packet\n				\n			\n			\n				\n					   BOC General Documents\n				\n			\n			\n				\n					   BOC Schedule\n				\n			\nClick the playlist button to select which video you would like to watch \n \nHouston County Board Meetings for 2020
URL:https://www.co.houston.mn.us/calendar/boc-meeting-6-9-20/
END:VEVENT
END:VCALENDAR