BEGIN:VCALENDAR
VERSION:2.0
PRODID:-//Houston County - ECPv6.15.20//NONSGML v1.0//EN
CALSCALE:GREGORIAN
METHOD:PUBLISH
X-ORIGINAL-URL:https://www.co.houston.mn.us
X-WR-CALDESC:Events for Houston County
REFRESH-INTERVAL;VALUE=DURATION:PT1H
X-Robots-Tag:noindex
X-PUBLISHED-TTL:PT1H
BEGIN:VTIMEZONE
TZID:America/Chicago
BEGIN:DAYLIGHT
TZOFFSETFROM:-0600
TZOFFSETTO:-0500
TZNAME:CDT
DTSTART:20250309T080000
END:DAYLIGHT
BEGIN:STANDARD
TZOFFSETFROM:-0500
TZOFFSETTO:-0600
TZNAME:CST
DTSTART:20251102T070000
END:STANDARD
BEGIN:DAYLIGHT
TZOFFSETFROM:-0600
TZOFFSETTO:-0500
TZNAME:CDT
DTSTART:20260308T080000
END:DAYLIGHT
BEGIN:STANDARD
TZOFFSETFROM:-0500
TZOFFSETTO:-0600
TZNAME:CST
DTSTART:20261101T070000
END:STANDARD
BEGIN:DAYLIGHT
TZOFFSETFROM:-0600
TZOFFSETTO:-0500
TZNAME:CDT
DTSTART:20270314T080000
END:DAYLIGHT
BEGIN:STANDARD
TZOFFSETFROM:-0500
TZOFFSETTO:-0600
TZNAME:CST
DTSTART:20271107T070000
END:STANDARD
END:VTIMEZONE
BEGIN:VEVENT
DTSTART;TZID=America/Chicago:20261201T090000
DTEND;TZID=America/Chicago:20261201T120000
DTSTAMP:20260424T015249
CREATED:20260102T222702Z
LAST-MODIFIED:20260102T222702Z
UID:9885-1796115600-1796126400@www.co.houston.mn.us
SUMMARY:Board of Commissioners Meeting
DESCRIPTION:
URL:https://www.co.houston.mn.us/calendar/board-of-commissioners-meeting-126/
END:VEVENT
BEGIN:VEVENT
DTSTART;TZID=America/Chicago:20261215T090000
DTEND;TZID=America/Chicago:20261215T120000
DTSTAMP:20260424T015249
CREATED:20260102T222728Z
LAST-MODIFIED:20260102T222728Z
UID:9887-1797325200-1797336000@www.co.houston.mn.us
SUMMARY:Board of Commissioners Meeting
DESCRIPTION:
URL:https://www.co.houston.mn.us/calendar/board-of-commissioners-meeting-127/
END:VEVENT
BEGIN:VEVENT
DTSTART;TZID=America/Chicago:20261217T170000
DTEND;TZID=America/Chicago:20261217T190000
DTSTAMP:20260424T015249
CREATED:20260422T143100Z
LAST-MODIFIED:20260422T143100Z
UID:10204-1797526800-1797534000@www.co.houston.mn.us
SUMMARY:Board of Adjustment and Planning Commission Meeting
DESCRIPTION:*Tentative schedule only – Meetings only occur if an applicant requests a hearing. Agendas are posted on the County website one week prior to meetings. \nApplication Deadline November 13th
URL:https://www.co.houston.mn.us/calendar/board-of-adjustment-and-planning-commission-meeting-13/
END:VEVENT
BEGIN:VEVENT
DTSTART;TZID=America/Chicago:20261222T090000
DTEND;TZID=America/Chicago:20261222T120000
DTSTAMP:20260424T015249
CREATED:20260102T222756Z
LAST-MODIFIED:20260102T222756Z
UID:9889-1797930000-1797940800@www.co.houston.mn.us
SUMMARY:Board of Commissioners Meeting
DESCRIPTION:
URL:https://www.co.houston.mn.us/calendar/board-of-commissioners-meeting-128/
END:VEVENT
BEGIN:VEVENT
DTSTART;VALUE=DATE:20261224
DTEND;VALUE=DATE:20261226
DTSTAMP:20260424T015249
CREATED:20260102T222839Z
LAST-MODIFIED:20260102T222839Z
UID:9891-1798070400-1798243199@www.co.houston.mn.us
SUMMARY:Christmas Eve/Day (Employee Holiday)
DESCRIPTION:Courthouse will be closed all day.
URL:https://www.co.houston.mn.us/calendar/christmas-eve-day-employee-holiday-3/
END:VEVENT
BEGIN:VEVENT
DTSTART;TZID=America/Chicago:20261229T090000
DTEND;TZID=America/Chicago:20261229T120000
DTSTAMP:20260424T015249
CREATED:20260102T222917Z
LAST-MODIFIED:20260102T222917Z
UID:9893-1798534800-1798545600@www.co.houston.mn.us
SUMMARY:Board of Commissioners Meeting
DESCRIPTION:
URL:https://www.co.houston.mn.us/calendar/board-of-commissioners-meeting-129/
END:VEVENT
END:VCALENDAR