BEGIN:VCALENDAR
VERSION:2.0
PRODID:-//Houston County - ECPv6.15.20//NONSGML v1.0//EN
CALSCALE:GREGORIAN
METHOD:PUBLISH
X-WR-CALNAME:Houston County
X-ORIGINAL-URL:https://www.co.houston.mn.us
X-WR-CALDESC:Events for Houston County
REFRESH-INTERVAL;VALUE=DURATION:PT1H
X-Robots-Tag:noindex
X-PUBLISHED-TTL:PT1H
BEGIN:VTIMEZONE
TZID:America/Chicago
BEGIN:DAYLIGHT
TZOFFSETFROM:-0600
TZOFFSETTO:-0500
TZNAME:CDT
DTSTART:20250309T080000
END:DAYLIGHT
BEGIN:STANDARD
TZOFFSETFROM:-0500
TZOFFSETTO:-0600
TZNAME:CST
DTSTART:20251102T070000
END:STANDARD
BEGIN:DAYLIGHT
TZOFFSETFROM:-0600
TZOFFSETTO:-0500
TZNAME:CDT
DTSTART:20260308T080000
END:DAYLIGHT
BEGIN:STANDARD
TZOFFSETFROM:-0500
TZOFFSETTO:-0600
TZNAME:CST
DTSTART:20261101T070000
END:STANDARD
BEGIN:DAYLIGHT
TZOFFSETFROM:-0600
TZOFFSETTO:-0500
TZNAME:CDT
DTSTART:20270314T080000
END:DAYLIGHT
BEGIN:STANDARD
TZOFFSETFROM:-0500
TZOFFSETTO:-0600
TZNAME:CST
DTSTART:20271107T070000
END:STANDARD
END:VTIMEZONE
BEGIN:VEVENT
DTSTART;TZID=America/Chicago:20260901T090000
DTEND;TZID=America/Chicago:20260901T120000
DTSTAMP:20260423T180508
CREATED:20260102T221714Z
LAST-MODIFIED:20260102T221714Z
UID:9855-1788253200-1788264000@www.co.houston.mn.us
SUMMARY:Board of Commissioners Meeting
DESCRIPTION:
URL:https://www.co.houston.mn.us/calendar/board-of-commissioners-meeting-117/
END:VEVENT
BEGIN:VEVENT
DTSTART;VALUE=DATE:20260907
DTEND;VALUE=DATE:20260908
DTSTAMP:20260423T180508
CREATED:20260102T221803Z
LAST-MODIFIED:20260109T205733Z
UID:9857-1788739200-1788825599@www.co.houston.mn.us
SUMMARY:Labor Day (Employee Holiday)
DESCRIPTION:Courthouse will be closed all day.
URL:https://www.co.houston.mn.us/calendar/labor-day-employee-holiday-2/
END:VEVENT
BEGIN:VEVENT
DTSTART;TZID=America/Chicago:20260908T090000
DTEND;TZID=America/Chicago:20260908T120000
DTSTAMP:20260423T180508
CREATED:20260102T221845Z
LAST-MODIFIED:20260102T221845Z
UID:9859-1788858000-1788868800@www.co.houston.mn.us
SUMMARY:Board of Commissioners Workgroup Session
DESCRIPTION:
URL:https://www.co.houston.mn.us/calendar/board-of-commissioners-workgroup-session-35/
END:VEVENT
BEGIN:VEVENT
DTSTART;TZID=America/Chicago:20260915T090000
DTEND;TZID=America/Chicago:20260915T120000
DTSTAMP:20260423T180508
CREATED:20260102T221925Z
LAST-MODIFIED:20260102T221925Z
UID:9861-1789462800-1789473600@www.co.houston.mn.us
SUMMARY:Board of Commissioners Meeting
DESCRIPTION:
URL:https://www.co.houston.mn.us/calendar/board-of-commissioners-meeting-118/
END:VEVENT
BEGIN:VEVENT
DTSTART;TZID=America/Chicago:20260922T090000
DTEND;TZID=America/Chicago:20260922T120000
DTSTAMP:20260423T180508
CREATED:20260102T221954Z
LAST-MODIFIED:20260102T221954Z
UID:9863-1790067600-1790078400@www.co.houston.mn.us
SUMMARY:Board of Commissioners Meeting
DESCRIPTION:
URL:https://www.co.houston.mn.us/calendar/board-of-commissioners-meeting-119/
END:VEVENT
BEGIN:VEVENT
DTSTART;TZID=America/Chicago:20260924T170000
DTEND;TZID=America/Chicago:20260924T190000
DTSTAMP:20260423T180508
CREATED:20260422T142557Z
LAST-MODIFIED:20260422T142557Z
UID:10198-1790269200-1790276400@www.co.houston.mn.us
SUMMARY:Board of Adjustment and Planning Commission Meeting
DESCRIPTION:*Tentative schedule only – Meetings only occur if an applicant requests a hearing. Agendas are posted on the County website one week prior to meetings. \nApplication Deadline Aug 21st
URL:https://www.co.houston.mn.us/calendar/board-of-adjustment-and-planning-commission-meeting-10/
END:VEVENT
END:VCALENDAR