BEGIN:VCALENDAR
VERSION:2.0
PRODID:-//Houston County - ECPv6.15.20//NONSGML v1.0//EN
CALSCALE:GREGORIAN
METHOD:PUBLISH
X-WR-CALNAME:Houston County
X-ORIGINAL-URL:https://www.co.houston.mn.us
X-WR-CALDESC:Events for Houston County
REFRESH-INTERVAL;VALUE=DURATION:PT1H
X-Robots-Tag:noindex
X-PUBLISHED-TTL:PT1H
BEGIN:VTIMEZONE
TZID:America/Chicago
BEGIN:DAYLIGHT
TZOFFSETFROM:-0600
TZOFFSETTO:-0500
TZNAME:CDT
DTSTART:20250309T080000
END:DAYLIGHT
BEGIN:STANDARD
TZOFFSETFROM:-0500
TZOFFSETTO:-0600
TZNAME:CST
DTSTART:20251102T070000
END:STANDARD
BEGIN:DAYLIGHT
TZOFFSETFROM:-0600
TZOFFSETTO:-0500
TZNAME:CDT
DTSTART:20260308T080000
END:DAYLIGHT
BEGIN:STANDARD
TZOFFSETFROM:-0500
TZOFFSETTO:-0600
TZNAME:CST
DTSTART:20261101T070000
END:STANDARD
BEGIN:DAYLIGHT
TZOFFSETFROM:-0600
TZOFFSETTO:-0500
TZNAME:CDT
DTSTART:20270314T080000
END:DAYLIGHT
BEGIN:STANDARD
TZOFFSETFROM:-0500
TZOFFSETTO:-0600
TZNAME:CST
DTSTART:20271107T070000
END:STANDARD
END:VTIMEZONE
BEGIN:VEVENT
DTSTART;VALUE=DATE:20260703
DTEND;VALUE=DATE:20260704
DTSTAMP:20260423T140727
CREATED:20260102T221030Z
LAST-MODIFIED:20260102T221030Z
UID:9837-1783036800-1783123199@www.co.houston.mn.us
SUMMARY:Independence Day (Employee Holiday Observed)
DESCRIPTION:Courthouse will be closed all day.
URL:https://www.co.houston.mn.us/calendar/independence-day-employee-holiday-observed/
END:VEVENT
BEGIN:VEVENT
DTSTART;TZID=America/Chicago:20260707T090000
DTEND;TZID=America/Chicago:20260707T120000
DTSTAMP:20260423T140727
CREATED:20260102T221105Z
LAST-MODIFIED:20260102T221105Z
UID:9839-1783414800-1783425600@www.co.houston.mn.us
SUMMARY:Board of Commissioners Meeting
DESCRIPTION:
URL:https://www.co.houston.mn.us/calendar/board-of-commissioners-meeting-111/
END:VEVENT
BEGIN:VEVENT
DTSTART;TZID=America/Chicago:20260714T090000
DTEND;TZID=America/Chicago:20260714T120000
DTSTAMP:20260423T140727
CREATED:20260102T221138Z
LAST-MODIFIED:20260102T221138Z
UID:9841-1784019600-1784030400@www.co.houston.mn.us
SUMMARY:Board of Commissioners Workgroup Session
DESCRIPTION:
URL:https://www.co.houston.mn.us/calendar/board-of-commissioners-workgroup-session-33/
END:VEVENT
BEGIN:VEVENT
DTSTART;TZID=America/Chicago:20260721T090000
DTEND;TZID=America/Chicago:20260721T120000
DTSTAMP:20260423T140727
CREATED:20260102T221217Z
LAST-MODIFIED:20260102T221217Z
UID:9843-1784624400-1784635200@www.co.houston.mn.us
SUMMARY:Board of Commissioners Meeting
DESCRIPTION:
URL:https://www.co.houston.mn.us/calendar/board-of-commissioners-meeting-112/
END:VEVENT
BEGIN:VEVENT
DTSTART;TZID=America/Chicago:20260723T170000
DTEND;TZID=America/Chicago:20260723T190000
DTSTAMP:20260423T140727
CREATED:20260422T142425Z
LAST-MODIFIED:20260422T142425Z
UID:10194-1784826000-1784833200@www.co.houston.mn.us
SUMMARY:Board of Adjustment and Planning Commission Meeting
DESCRIPTION:*Tentative schedule only – Meetings only occur if an applicant requests a hearing. Agendas are posted on the County website one week prior to meetings. \nApplication Deadline June 19th
URL:https://www.co.houston.mn.us/calendar/board-of-adjustment-and-planning-commission-meeting-8/
END:VEVENT
BEGIN:VEVENT
DTSTART;TZID=America/Chicago:20260728T090000
DTEND;TZID=America/Chicago:20260728T120000
DTSTAMP:20260423T140727
CREATED:20260102T221313Z
LAST-MODIFIED:20260102T221313Z
UID:9845-1785229200-1785240000@www.co.houston.mn.us
SUMMARY:Board of Commissioners Meeting
DESCRIPTION:
URL:https://www.co.houston.mn.us/calendar/board-of-commissioners-meeting-113/
END:VEVENT
END:VCALENDAR