BEGIN:VCALENDAR
VERSION:2.0
PRODID:-//Houston County - ECPv6.15.20//NONSGML v1.0//EN
CALSCALE:GREGORIAN
METHOD:PUBLISH
X-WR-CALNAME:Houston County
X-ORIGINAL-URL:https://www.co.houston.mn.us
X-WR-CALDESC:Events for Houston County
REFRESH-INTERVAL;VALUE=DURATION:PT1H
X-Robots-Tag:noindex
X-PUBLISHED-TTL:PT1H
BEGIN:VTIMEZONE
TZID:America/Chicago
BEGIN:DAYLIGHT
TZOFFSETFROM:-0600
TZOFFSETTO:-0500
TZNAME:CDT
DTSTART:20250309T080000
END:DAYLIGHT
BEGIN:STANDARD
TZOFFSETFROM:-0500
TZOFFSETTO:-0600
TZNAME:CST
DTSTART:20251102T070000
END:STANDARD
BEGIN:DAYLIGHT
TZOFFSETFROM:-0600
TZOFFSETTO:-0500
TZNAME:CDT
DTSTART:20260308T080000
END:DAYLIGHT
BEGIN:STANDARD
TZOFFSETFROM:-0500
TZOFFSETTO:-0600
TZNAME:CST
DTSTART:20261101T070000
END:STANDARD
BEGIN:DAYLIGHT
TZOFFSETFROM:-0600
TZOFFSETTO:-0500
TZNAME:CDT
DTSTART:20270314T080000
END:DAYLIGHT
BEGIN:STANDARD
TZOFFSETFROM:-0500
TZOFFSETTO:-0600
TZNAME:CST
DTSTART:20271107T070000
END:STANDARD
END:VTIMEZONE
BEGIN:VEVENT
DTSTART;TZID=America/Chicago:20260203T090000
DTEND;TZID=America/Chicago:20260203T120000
DTSTAMP:20260423T121542
CREATED:20260102T214917Z
LAST-MODIFIED:20260102T214917Z
UID:9786-1770109200-1770120000@www.co.houston.mn.us
SUMMARY:Board of Commissioners Meeting
DESCRIPTION:
URL:https://www.co.houston.mn.us/calendar/board-of-commissioners-meeting-95/
END:VEVENT
BEGIN:VEVENT
DTSTART;TZID=America/Chicago:20260210T090000
DTEND;TZID=America/Chicago:20260210T120000
DTSTAMP:20260423T121542
CREATED:20260102T215011Z
LAST-MODIFIED:20260102T215011Z
UID:9788-1770714000-1770724800@www.co.houston.mn.us
SUMMARY:Board of Commissioners Workgroup Session
DESCRIPTION:
URL:https://www.co.houston.mn.us/calendar/board-of-commissioners-workgroup-session-28/
END:VEVENT
BEGIN:VEVENT
DTSTART;VALUE=DATE:20260216
DTEND;VALUE=DATE:20260217
DTSTAMP:20260423T121542
CREATED:20260102T215053Z
LAST-MODIFIED:20260102T215053Z
UID:9790-1771200000-1771286399@www.co.houston.mn.us
SUMMARY:President's Day (Employee Holiday)
DESCRIPTION:Courthouse will be closed all day.
URL:https://www.co.houston.mn.us/calendar/presidents-day-employee-holiday-3/
END:VEVENT
BEGIN:VEVENT
DTSTART;TZID=America/Chicago:20260217T090000
DTEND;TZID=America/Chicago:20260217T120000
DTSTAMP:20260423T121542
CREATED:20260102T215136Z
LAST-MODIFIED:20260102T215136Z
UID:9792-1771318800-1771329600@www.co.houston.mn.us
SUMMARY:Board of Commissioners Meeting
DESCRIPTION:
URL:https://www.co.houston.mn.us/calendar/board-of-commissioners-meeting-96/
END:VEVENT
BEGIN:VEVENT
DTSTART;TZID=America/Chicago:20260224T090000
DTEND;TZID=America/Chicago:20260224T120000
DTSTAMP:20260423T121542
CREATED:20260102T215212Z
LAST-MODIFIED:20260102T215212Z
UID:9794-1771923600-1771934400@www.co.houston.mn.us
SUMMARY:Board of Commissioners Meeting
DESCRIPTION:
URL:https://www.co.houston.mn.us/calendar/board-of-commissioners-meeting-97/
END:VEVENT
BEGIN:VEVENT
DTSTART;VALUE=DATE:20260226
DTEND;VALUE=DATE:20260227
DTSTAMP:20260423T121542
CREATED:20260422T141744Z
LAST-MODIFIED:20260422T141744Z
UID:10184-1772064000-1772150399@www.co.houston.mn.us
SUMMARY:Board of Adjustment and Planning Commission Meeting
DESCRIPTION:*Tentative schedule only – Meetings only occur if an applicant requests a hearing. Agendas are posted on the County website one week prior to meetings.
URL:https://www.co.houston.mn.us/calendar/board-of-adjustment-and-planning-commission-meeting-3/
END:VEVENT
END:VCALENDAR