BEGIN:VCALENDAR
VERSION:2.0
PRODID:-//Houston County - ECPv6.15.20//NONSGML v1.0//EN
CALSCALE:GREGORIAN
METHOD:PUBLISH
X-WR-CALNAME:Houston County
X-ORIGINAL-URL:https://www.co.houston.mn.us
X-WR-CALDESC:Events for Houston County
REFRESH-INTERVAL;VALUE=DURATION:PT1H
X-Robots-Tag:noindex
X-PUBLISHED-TTL:PT1H
BEGIN:VTIMEZONE
TZID:America/Chicago
BEGIN:DAYLIGHT
TZOFFSETFROM:-0600
TZOFFSETTO:-0500
TZNAME:CDT
DTSTART:20240310T080000
END:DAYLIGHT
BEGIN:STANDARD
TZOFFSETFROM:-0500
TZOFFSETTO:-0600
TZNAME:CST
DTSTART:20241103T070000
END:STANDARD
BEGIN:DAYLIGHT
TZOFFSETFROM:-0600
TZOFFSETTO:-0500
TZNAME:CDT
DTSTART:20250309T080000
END:DAYLIGHT
BEGIN:STANDARD
TZOFFSETFROM:-0500
TZOFFSETTO:-0600
TZNAME:CST
DTSTART:20251102T070000
END:STANDARD
BEGIN:DAYLIGHT
TZOFFSETFROM:-0600
TZOFFSETTO:-0500
TZNAME:CDT
DTSTART:20260308T080000
END:DAYLIGHT
BEGIN:STANDARD
TZOFFSETFROM:-0500
TZOFFSETTO:-0600
TZNAME:CST
DTSTART:20261101T070000
END:STANDARD
END:VTIMEZONE
BEGIN:VEVENT
DTSTART;TZID=America/Chicago:20251104T090000
DTEND;TZID=America/Chicago:20251104T120000
DTSTAMP:20260423T180509
CREATED:20250103T174843Z
LAST-MODIFIED:20250103T174843Z
UID:8840-1762246800-1762257600@www.co.houston.mn.us
SUMMARY:Board of Commissioners Meeting
DESCRIPTION:
URL:https://www.co.houston.mn.us/calendar/board-of-commissioners-meeting-85/
LOCATION:Historic Courthouse\, 304 S. Marshall Street\, Caledonia\, MN\, 55921\, United States
END:VEVENT
BEGIN:VEVENT
DTSTART;VALUE=DATE:20251111
DTEND;VALUE=DATE:20251112
DTSTAMP:20260423T180509
CREATED:20250103T174927Z
LAST-MODIFIED:20250103T174927Z
UID:8842-1762819200-1762905599@www.co.houston.mn.us
SUMMARY:Veterans Day (Employee Holiday)
DESCRIPTION:
URL:https://www.co.houston.mn.us/calendar/veterans-day-employee-holiday-2/
LOCATION:Historic Courthouse\, 304 S. Marshall Street\, Caledonia\, MN\, 55921\, United States
END:VEVENT
BEGIN:VEVENT
DTSTART;TZID=America/Chicago:20251118T090000
DTEND;TZID=America/Chicago:20251118T120000
DTSTAMP:20260423T180509
CREATED:20250103T175023Z
LAST-MODIFIED:20250103T175023Z
UID:8844-1763456400-1763467200@www.co.houston.mn.us
SUMMARY:Board of Commissioners Meeting
DESCRIPTION:
URL:https://www.co.houston.mn.us/calendar/board-of-commissioners-meeting-86/
LOCATION:Historic Courthouse\, 304 S. Marshall Street\, Caledonia\, MN\, 55921\, United States
END:VEVENT
BEGIN:VEVENT
DTSTART;TZID=America/Chicago:20251125T090000
DTEND;TZID=America/Chicago:20251125T120000
DTSTAMP:20260423T180509
CREATED:20250103T175055Z
LAST-MODIFIED:20250103T175055Z
UID:8846-1764061200-1764072000@www.co.houston.mn.us
SUMMARY:Board of Commissioners Meeting
DESCRIPTION:
URL:https://www.co.houston.mn.us/calendar/board-of-commissioners-meeting-87/
LOCATION:Historic Courthouse\, 304 S. Marshall Street\, Caledonia\, MN\, 55921\, United States
END:VEVENT
BEGIN:VEVENT
DTSTART;VALUE=DATE:20251127
DTEND;VALUE=DATE:20251129
DTSTAMP:20260423T180509
CREATED:20250103T175141Z
LAST-MODIFIED:20250103T175141Z
UID:8848-1764201600-1764374399@www.co.houston.mn.us
SUMMARY:Thanksgiving (Employee Holiday)
DESCRIPTION:
URL:https://www.co.houston.mn.us/calendar/thanksgiving-employee-holiday-2/
LOCATION:Historic Courthouse\, 304 S. Marshall Street\, Caledonia\, MN\, 55921\, United States
END:VEVENT
END:VCALENDAR