BEGIN:VCALENDAR
VERSION:2.0
PRODID:-//Houston County - ECPv6.15.20//NONSGML v1.0//EN
CALSCALE:GREGORIAN
METHOD:PUBLISH
X-ORIGINAL-URL:https://www.co.houston.mn.us
X-WR-CALDESC:Events for Houston County
REFRESH-INTERVAL;VALUE=DURATION:PT1H
X-Robots-Tag:noindex
X-PUBLISHED-TTL:PT1H
BEGIN:VTIMEZONE
TZID:America/Chicago
BEGIN:DAYLIGHT
TZOFFSETFROM:-0600
TZOFFSETTO:-0500
TZNAME:CDT
DTSTART:20240310T080000
END:DAYLIGHT
BEGIN:STANDARD
TZOFFSETFROM:-0500
TZOFFSETTO:-0600
TZNAME:CST
DTSTART:20241103T070000
END:STANDARD
BEGIN:DAYLIGHT
TZOFFSETFROM:-0600
TZOFFSETTO:-0500
TZNAME:CDT
DTSTART:20250309T080000
END:DAYLIGHT
BEGIN:STANDARD
TZOFFSETFROM:-0500
TZOFFSETTO:-0600
TZNAME:CST
DTSTART:20251102T070000
END:STANDARD
BEGIN:DAYLIGHT
TZOFFSETFROM:-0600
TZOFFSETTO:-0500
TZNAME:CDT
DTSTART:20260308T080000
END:DAYLIGHT
BEGIN:STANDARD
TZOFFSETFROM:-0500
TZOFFSETTO:-0600
TZNAME:CST
DTSTART:20261101T070000
END:STANDARD
END:VTIMEZONE
BEGIN:VEVENT
DTSTART;TZID=America/Chicago:20250401T090000
DTEND;TZID=America/Chicago:20250401T120000
DTSTAMP:20260424T071002
CREATED:20250103T152536Z
LAST-MODIFIED:20250103T152536Z
UID:8776-1743498000-1743508800@www.co.houston.mn.us
SUMMARY:Board of Commissioners Meeting
DESCRIPTION:
URL:https://www.co.houston.mn.us/calendar/board-of-commissioners-meeting-65/
LOCATION:Historic Courthouse\, 304 S. Marshall Street\, Caledonia\, MN\, 55921\, United States
END:VEVENT
BEGIN:VEVENT
DTSTART;TZID=America/Chicago:20250408T090000
DTEND;TZID=America/Chicago:20250408T120000
DTSTAMP:20260424T071002
CREATED:20250103T152714Z
LAST-MODIFIED:20250103T152714Z
UID:8778-1744102800-1744113600@www.co.houston.mn.us
SUMMARY:Board of Commissioners Workgroup Session
DESCRIPTION:
URL:https://www.co.houston.mn.us/calendar/board-of-commissioners-workgroup-session-20/
LOCATION:Historic Courthouse\, 304 S. Marshall Street\, Caledonia\, MN\, 55921\, United States
END:VEVENT
BEGIN:VEVENT
DTSTART;TZID=America/Chicago:20250415T090000
DTEND;TZID=America/Chicago:20250415T120000
DTSTAMP:20260424T071002
CREATED:20250103T152747Z
LAST-MODIFIED:20250103T152747Z
UID:8780-1744707600-1744718400@www.co.houston.mn.us
SUMMARY:Board of Commissioners Meeting
DESCRIPTION:
URL:https://www.co.houston.mn.us/calendar/board-of-commissioners-meeting-66/
LOCATION:Historic Courthouse\, 304 S. Marshall Street\, Caledonia\, MN\, 55921\, United States
END:VEVENT
BEGIN:VEVENT
DTSTART;VALUE=DATE:20250418
DTEND;VALUE=DATE:20250419
DTSTAMP:20260424T071002
CREATED:20250103T152829Z
LAST-MODIFIED:20250103T152829Z
UID:8782-1744934400-1745020799@www.co.houston.mn.us
SUMMARY:Spring Holiday (Employee Holiday)
DESCRIPTION:
URL:https://www.co.houston.mn.us/calendar/spring-holiday-employee-holiday-2/
LOCATION:Historic Courthouse\, 304 S. Marshall Street\, Caledonia\, MN\, 55921\, United States
END:VEVENT
BEGIN:VEVENT
DTSTART;TZID=America/Chicago:20250422T090000
DTEND;TZID=America/Chicago:20250422T120000
DTSTAMP:20260424T071002
CREATED:20250103T152903Z
LAST-MODIFIED:20250103T152903Z
UID:8784-1745312400-1745323200@www.co.houston.mn.us
SUMMARY:Board of Commissioners Meeting
DESCRIPTION:
URL:https://www.co.houston.mn.us/calendar/board-of-commissioners-meeting-67/
LOCATION:Historic Courthouse\, 304 S. Marshall Street\, Caledonia\, MN\, 55921\, United States
END:VEVENT
END:VCALENDAR