BEGIN:VCALENDAR
VERSION:2.0
PRODID:-//Houston County - ECPv6.15.20//NONSGML v1.0//EN
CALSCALE:GREGORIAN
METHOD:PUBLISH
X-WR-CALNAME:Houston County
X-ORIGINAL-URL:https://www.co.houston.mn.us
X-WR-CALDESC:Events for Houston County
REFRESH-INTERVAL;VALUE=DURATION:PT1H
X-Robots-Tag:noindex
X-PUBLISHED-TTL:PT1H
BEGIN:VTIMEZONE
TZID:America/Chicago
BEGIN:DAYLIGHT
TZOFFSETFROM:-0600
TZOFFSETTO:-0500
TZNAME:CDT
DTSTART:20230312T080000
END:DAYLIGHT
BEGIN:STANDARD
TZOFFSETFROM:-0500
TZOFFSETTO:-0600
TZNAME:CST
DTSTART:20231105T070000
END:STANDARD
BEGIN:DAYLIGHT
TZOFFSETFROM:-0600
TZOFFSETTO:-0500
TZNAME:CDT
DTSTART:20240310T080000
END:DAYLIGHT
BEGIN:STANDARD
TZOFFSETFROM:-0500
TZOFFSETTO:-0600
TZNAME:CST
DTSTART:20241103T070000
END:STANDARD
BEGIN:DAYLIGHT
TZOFFSETFROM:-0600
TZOFFSETTO:-0500
TZNAME:CDT
DTSTART:20250309T080000
END:DAYLIGHT
BEGIN:STANDARD
TZOFFSETFROM:-0500
TZOFFSETTO:-0600
TZNAME:CST
DTSTART:20251102T070000
END:STANDARD
END:VTIMEZONE
BEGIN:VEVENT
DTSTART;TZID=America/Chicago:20240305T090000
DTEND;TZID=America/Chicago:20240305T120000
DTSTAMP:20260425T071115
CREATED:20240102T192851Z
LAST-MODIFIED:20240102T192937Z
UID:7759-1709629200-1709640000@www.co.houston.mn.us
SUMMARY:Board of Commissioners Meeting
DESCRIPTION:See Agendas and Minutes under services on the home page.
URL:https://www.co.houston.mn.us/calendar/7759/
END:VEVENT
BEGIN:VEVENT
DTSTART;TZID=America/Chicago:20240312T090000
DTEND;TZID=America/Chicago:20240312T120000
DTSTAMP:20260425T071115
CREATED:20240102T193104Z
LAST-MODIFIED:20240102T193554Z
UID:7762-1710234000-1710244800@www.co.houston.mn.us
SUMMARY:Board of Commissioners Meeting
DESCRIPTION:See Agendas and Minutes under services on the home page.
URL:https://www.co.houston.mn.us/calendar/board-of-commissioners-meeting-26/
END:VEVENT
BEGIN:VEVENT
DTSTART;TZID=America/Chicago:20240319T090000
DTEND;TZID=America/Chicago:20240319T120000
DTSTAMP:20260425T071115
CREATED:20240102T194144Z
LAST-MODIFIED:20240102T194231Z
UID:7765-1710838800-1710849600@www.co.houston.mn.us
SUMMARY:Board of Commissioners Workgroup Session
DESCRIPTION:See Agendas and Minutes under services on the home page.
URL:https://www.co.houston.mn.us/calendar/board-of-commissioners-workgroup-session-10/
END:VEVENT
BEGIN:VEVENT
DTSTART;TZID=America/Chicago:20240326T090000
DTEND;TZID=America/Chicago:20240326T120000
DTSTAMP:20260425T071115
CREATED:20240102T194432Z
LAST-MODIFIED:20240102T194432Z
UID:7768-1711443600-1711454400@www.co.houston.mn.us
SUMMARY:Board of Commissioners Meeting
DESCRIPTION:See Agendas and Minutes under services on the home page.
URL:https://www.co.houston.mn.us/calendar/board-of-commissioners-meeting-27/
END:VEVENT
BEGIN:VEVENT
DTSTART;VALUE=DATE:20240329
DTEND;VALUE=DATE:20240330
DTSTAMP:20260425T071115
CREATED:20240102T194510Z
LAST-MODIFIED:20240103T213832Z
UID:7770-1711670400-1711756799@www.co.houston.mn.us
SUMMARY:Spring Holiday (Employee Holiday)
DESCRIPTION:The Houston County Historic Courthouse and Criminal Justice Center will be closed.
URL:https://www.co.houston.mn.us/calendar/spring-holiday-employee-holiday/
END:VEVENT
END:VCALENDAR